BEGIN:VCALENDAR
VERSION:2.0
PRODID:-//BLK ASS FLEA MKT - ECPv6.15.20//NONSGML v1.0//EN
CALSCALE:GREGORIAN
METHOD:PUBLISH
X-WR-CALNAME:BLK ASS FLEA MKT
X-ORIGINAL-URL:https://blkassfleamkt.com
X-WR-CALDESC:Events for BLK ASS FLEA MKT
REFRESH-INTERVAL;VALUE=DURATION:PT1H
X-Robots-Tag:noindex
X-PUBLISHED-TTL:PT1H
BEGIN:VTIMEZONE
TZID:UTC
BEGIN:STANDARD
TZOFFSETFROM:+0000
TZOFFSETTO:+0000
TZNAME:UTC
DTSTART:20240101T000000
END:STANDARD
END:VTIMEZONE
BEGIN:VEVENT
DTSTART;TZID=UTC:20250925T190000
DTEND;TZID=UTC:20250925T190000
DTSTAMP:20260423T181416
CREATED:20250906T125748Z
LAST-MODIFIED:20250906T125748Z
UID:10000093-1758826800-1758826800@blkassfleamkt.com
SUMMARY:BLK ASS MOVIE NIGHT
DESCRIPTION:[09/25] BLK ASS MOVIE NIGHT [we watching Drumline!]\nFOOD + COCKTAILS + COMMUNITY\n7:00PM | MOVIE @ 8:00PM \nCocktails by @thestylishbarter \nTIX ONLY $5 \n  \n\n[envira-gallery id=”1378234″]
URL:https://blkassfleamkt.com/event/blk-ass-movie-night-drumline/
LOCATION:Impact Hub\, 10 E North Ave\, Baltimore\, 21202\, United States
CATEGORIES:Movie Night
ATTACH;FMTTYPE=image/jpeg:https://blkassfleamkt.com/wp-content/uploads/BLKASSMOVIENIGHT.jpg
END:VEVENT
BEGIN:VEVENT
DTSTART;TZID=UTC:20251118T193000
DTEND;TZID=UTC:20251118T220000
DTSTAMP:20260423T181416
CREATED:20251116T152822Z
LAST-MODIFIED:20251116T152822Z
UID:10000096-1763494200-1763503200@blkassfleamkt.com
SUMMARY:BLK ASS MOVIE NIGHT - SOUL FOOD
DESCRIPTION:[11/18] BLK ASS MOVIE NIGHT [we watching Soul Food!]\nFOOD + COCKTAILS + COMMUNITY\n7:30PM | MOVIE @ 8:00PM \nCocktails by @thestylishbarter \nTIX ONLY $5 \n  \n\n 
URL:https://blkassfleamkt.com/event/blk-ass-movie-night-soul-food/
LOCATION:Impact Hub\, 10 E North Ave\, Baltimore\, 21202\, United States
CATEGORIES:Movie Night
ATTACH;FMTTYPE=image/jpeg:https://blkassfleamkt.com/wp-content/uploads/BAFM_BLKASSMOVIENIGHT_Mutiple_1080x1080-2_optimized_1000.jpg
END:VEVENT
END:VCALENDAR