BEGIN:VCALENDAR
VERSION:2.0
PRODID:-//BLK ASS FLEA MKT - ECPv6.15.20//NONSGML v1.0//EN
CALSCALE:GREGORIAN
METHOD:PUBLISH
X-ORIGINAL-URL:https://blkassfleamkt.com
X-WR-CALDESC:Events for BLK ASS FLEA MKT
REFRESH-INTERVAL;VALUE=DURATION:PT1H
X-Robots-Tag:noindex
X-PUBLISHED-TTL:PT1H
BEGIN:VTIMEZONE
TZID:America/New_York
BEGIN:DAYLIGHT
TZOFFSETFROM:-0500
TZOFFSETTO:-0400
TZNAME:EDT
DTSTART:20240310T070000
END:DAYLIGHT
BEGIN:STANDARD
TZOFFSETFROM:-0400
TZOFFSETTO:-0500
TZNAME:EST
DTSTART:20241103T060000
END:STANDARD
BEGIN:DAYLIGHT
TZOFFSETFROM:-0500
TZOFFSETTO:-0400
TZNAME:EDT
DTSTART:20250309T070000
END:DAYLIGHT
BEGIN:STANDARD
TZOFFSETFROM:-0400
TZOFFSETTO:-0500
TZNAME:EST
DTSTART:20251102T060000
END:STANDARD
BEGIN:DAYLIGHT
TZOFFSETFROM:-0500
TZOFFSETTO:-0400
TZNAME:EDT
DTSTART:20260308T070000
END:DAYLIGHT
BEGIN:STANDARD
TZOFFSETFROM:-0400
TZOFFSETTO:-0500
TZNAME:EST
DTSTART:20261101T060000
END:STANDARD
END:VTIMEZONE
BEGIN:VEVENT
DTSTART;TZID=America/New_York:20251121T180000
DTEND;TZID=America/New_York:20251121T230000
DTSTAMP:20260419T163044
CREATED:20251116T154353Z
LAST-MODIFIED:20251116T154353Z
UID:10000097-1763748000-1763766000@blkassfleamkt.com
SUMMARY:COUSINSGIVING
DESCRIPTION:[11/21] COUSINSGIVING at The Empanada Lady\nFOOD + COCKTAILS + COMMUNITY\nHAPPY HOUR 6PM-8PM\n6PM-11PM \n  \n 
URL:https://blkassfleamkt.com/event/cousinsgiving/
LOCATION:The Empanada Lady\, 10 South St STE 100\, Baltimore\, Maryland\, 21202
CATEGORIES:Fundraiser,Meetup,Networking,Thanksgiving
ATTACH;FMTTYPE=image/jpeg:https://blkassfleamkt.com/wp-content/uploads/BAFM_BABF_Flyer-Final_1000.jpeg
END:VEVENT
END:VCALENDAR