BEGIN:VCALENDAR
VERSION:2.0
PRODID:-//BLK ASS FLEA MKT - ECPv6.15.20//NONSGML v1.0//EN
CALSCALE:GREGORIAN
METHOD:PUBLISH
X-ORIGINAL-URL:https://blkassfleamkt.com
X-WR-CALDESC:Events for BLK ASS FLEA MKT
REFRESH-INTERVAL;VALUE=DURATION:PT1H
X-Robots-Tag:noindex
X-PUBLISHED-TTL:PT1H
BEGIN:VTIMEZONE
TZID:America/New_York
BEGIN:DAYLIGHT
TZOFFSETFROM:-0500
TZOFFSETTO:-0400
TZNAME:EDT
DTSTART:20240310T070000
END:DAYLIGHT
BEGIN:STANDARD
TZOFFSETFROM:-0400
TZOFFSETTO:-0500
TZNAME:EST
DTSTART:20241103T060000
END:STANDARD
BEGIN:DAYLIGHT
TZOFFSETFROM:-0500
TZOFFSETTO:-0400
TZNAME:EDT
DTSTART:20250309T070000
END:DAYLIGHT
BEGIN:STANDARD
TZOFFSETFROM:-0400
TZOFFSETTO:-0500
TZNAME:EST
DTSTART:20251102T060000
END:STANDARD
BEGIN:DAYLIGHT
TZOFFSETFROM:-0500
TZOFFSETTO:-0400
TZNAME:EDT
DTSTART:20260308T070000
END:DAYLIGHT
BEGIN:STANDARD
TZOFFSETFROM:-0400
TZOFFSETTO:-0500
TZNAME:EST
DTSTART:20261101T060000
END:STANDARD
END:VTIMEZONE
BEGIN:VTIMEZONE
TZID:UTC
BEGIN:STANDARD
TZOFFSETFROM:+0000
TZOFFSETTO:+0000
TZNAME:UTC
DTSTART:20240101T000000
END:STANDARD
END:VTIMEZONE
BEGIN:VEVENT
DTSTART;TZID=America/New_York:20250921T160000
DTEND;TZID=America/New_York:20250921T200000
DTSTAMP:20260420T020153
CREATED:20250906T124050Z
LAST-MODIFIED:20250906T124050Z
UID:10000092-1758470400-1758484800@blkassfleamkt.com
SUMMARY:DA JUKE : LOVE JONES [3] - R&B DAY PARTY
DESCRIPTION:DA JUKE | LOVE JONES [3] – R&B DAY PARTY\nYOU’RE FAVORITE DAY PARTY IS BACK  \nDATE: Sunday [9/21] \nTIME: [4PM–8PM] \nADDRESS: [THE GARAGE @ R. HOUSE] 301 W. 29TH STREET BALTIMORE\, MD 21211
URL:https://blkassfleamkt.com/event/da-juke-love-jones-3-rb-day-party-3/
LOCATION:The Garage at R. House\, 301 W 29th St.\, Baltimore\, MD\, 21211\, United States
CATEGORIES:Day Party
ATTACH;FMTTYPE=image/jpeg:https://blkassfleamkt.com/wp-content/uploads/JUKE.jpg
END:VEVENT
BEGIN:VEVENT
DTSTART;TZID=UTC:20250925T190000
DTEND;TZID=UTC:20250925T190000
DTSTAMP:20260420T020153
CREATED:20250906T125748Z
LAST-MODIFIED:20250906T125748Z
UID:10000093-1758826800-1758826800@blkassfleamkt.com
SUMMARY:BLK ASS MOVIE NIGHT
DESCRIPTION:[09/25] BLK ASS MOVIE NIGHT [we watching Drumline!]\nFOOD + COCKTAILS + COMMUNITY\n7:00PM | MOVIE @ 8:00PM \nCocktails by @thestylishbarter \nTIX ONLY $5 \n  \n\n[envira-gallery id=”1378234″]
URL:https://blkassfleamkt.com/event/blk-ass-movie-night-drumline/
LOCATION:Impact Hub\, 10 E North Ave\, Baltimore\, 21202\, United States
CATEGORIES:Movie Night
ATTACH;FMTTYPE=image/jpeg:https://blkassfleamkt.com/wp-content/uploads/BLKASSMOVIENIGHT.jpg
END:VEVENT
BEGIN:VEVENT
DTSTART;TZID=UTC:20250927T120000
DTEND;TZID=UTC:20250927T170000
DTSTAMP:20260420T020153
CREATED:20250906T130828Z
LAST-MODIFIED:20250906T130828Z
UID:10000095-1758974400-1758992400@blkassfleamkt.com
SUMMARY:BLK ASS HOMECOMING
DESCRIPTION:[9/27] – Kick off your Homecoming calendar with BLK ASS HOMECOMING! \nRep your University and/or your frat/sorority + shop with BLK ASS vendors\, food\, drinks and vibes! \n[The Garage @ R.House]\n[FREE ENTRY+CASH BAR] [NOON-5PM]
URL:https://blkassfleamkt.com/event/blk-ass-homecoming-3/
LOCATION:The Garage at R. House\, 301 W 29th St.\, Baltimore\, MD\, 21211\, United States
CATEGORIES:Festival,Homecoming
ATTACH;FMTTYPE=image/jpeg:https://blkassfleamkt.com/wp-content/uploads/Homecoming.jpg
END:VEVENT
BEGIN:VEVENT
DTSTART;TZID=UTC:20251118T193000
DTEND;TZID=UTC:20251118T220000
DTSTAMP:20260420T020153
CREATED:20251116T152822Z
LAST-MODIFIED:20251116T152822Z
UID:10000096-1763494200-1763503200@blkassfleamkt.com
SUMMARY:BLK ASS MOVIE NIGHT - SOUL FOOD
DESCRIPTION:[11/18] BLK ASS MOVIE NIGHT [we watching Soul Food!]\nFOOD + COCKTAILS + COMMUNITY\n7:30PM | MOVIE @ 8:00PM \nCocktails by @thestylishbarter \nTIX ONLY $5 \n  \n\n 
URL:https://blkassfleamkt.com/event/blk-ass-movie-night-soul-food/
LOCATION:Impact Hub\, 10 E North Ave\, Baltimore\, 21202\, United States
CATEGORIES:Movie Night
ATTACH;FMTTYPE=image/jpeg:https://blkassfleamkt.com/wp-content/uploads/BAFM_BLKASSMOVIENIGHT_Mutiple_1080x1080-2_optimized_1000.jpg
END:VEVENT
BEGIN:VEVENT
DTSTART;TZID=America/New_York:20251121T180000
DTEND;TZID=America/New_York:20251121T230000
DTSTAMP:20260420T020153
CREATED:20251116T154353Z
LAST-MODIFIED:20251116T154353Z
UID:10000097-1763748000-1763766000@blkassfleamkt.com
SUMMARY:COUSINSGIVING
DESCRIPTION:[11/21] COUSINSGIVING at The Empanada Lady\nFOOD + COCKTAILS + COMMUNITY\nHAPPY HOUR 6PM-8PM\n6PM-11PM \n  \n 
URL:https://blkassfleamkt.com/event/cousinsgiving/
LOCATION:The Empanada Lady\, 10 South St STE 100\, Baltimore\, Maryland\, 21202
CATEGORIES:Fundraiser,Meetup,Networking,Thanksgiving
ATTACH;FMTTYPE=image/jpeg:https://blkassfleamkt.com/wp-content/uploads/BAFM_BABF_Flyer-Final_1000.jpeg
END:VEVENT
BEGIN:VEVENT
DTSTART;TZID=America/New_York:20251128T120000
DTEND;TZID=America/New_York:20251128T170000
DTSTAMP:20260420T020153
CREATED:20251116T155453Z
LAST-MODIFIED:20251116T155453Z
UID:10000098-1764331200-1764349200@blkassfleamkt.com
SUMMARY:BLK ASS FRIDAY
DESCRIPTION:BLK ASS FRIDAY\nFriday [11/28]\n[12PM – 6PM]\nBaltimore Unity Hall \n1505 Eutaw Place\nBaltimore\, MD 21217
URL:https://blkassfleamkt.com/event/blk-ass-friday-2/
LOCATION:Baltimore Unity Hall\, 1505 Eutaw Place\, Baltimore\, 21217\, United States
CATEGORIES:Festival,Meetup,Networking
ATTACH;FMTTYPE=image/jpeg:https://blkassfleamkt.com/wp-content/uploads/1_optimized.jpg
END:VEVENT
BEGIN:VEVENT
DTSTART;TZID=UTC:20300801T173800
DTEND;TZID=UTC:20300801T173800
DTSTAMP:20260420T020153
CREATED:20230814T205754Z
LAST-MODIFIED:20250110T221345Z
UID:10000076-1911836280-1911836280@blkassfleamkt.com
SUMMARY:EMAIL ALL USERS
DESCRIPTION:
URL:https://blkassfleamkt.com/event/email-all-users/
END:VEVENT
END:VCALENDAR