BEGIN:VCALENDAR
VERSION:2.0
PRODID:-//BLK ASS FLEA MKT - ECPv6.15.20//NONSGML v1.0//EN
CALSCALE:GREGORIAN
METHOD:PUBLISH
X-ORIGINAL-URL:https://blkassfleamkt.com
X-WR-CALDESC:Events for BLK ASS FLEA MKT
REFRESH-INTERVAL;VALUE=DURATION:PT1H
X-Robots-Tag:noindex
X-PUBLISHED-TTL:PT1H
BEGIN:VTIMEZONE
TZID:America/New_York
BEGIN:DAYLIGHT
TZOFFSETFROM:-0500
TZOFFSETTO:-0400
TZNAME:EDT
DTSTART:20230312T070000
END:DAYLIGHT
BEGIN:STANDARD
TZOFFSETFROM:-0400
TZOFFSETTO:-0500
TZNAME:EST
DTSTART:20231105T060000
END:STANDARD
BEGIN:DAYLIGHT
TZOFFSETFROM:-0500
TZOFFSETTO:-0400
TZNAME:EDT
DTSTART:20240310T070000
END:DAYLIGHT
BEGIN:STANDARD
TZOFFSETFROM:-0400
TZOFFSETTO:-0500
TZNAME:EST
DTSTART:20241103T060000
END:STANDARD
BEGIN:DAYLIGHT
TZOFFSETFROM:-0500
TZOFFSETTO:-0400
TZNAME:EDT
DTSTART:20250309T070000
END:DAYLIGHT
BEGIN:STANDARD
TZOFFSETFROM:-0400
TZOFFSETTO:-0500
TZNAME:EST
DTSTART:20251102T060000
END:STANDARD
END:VTIMEZONE
BEGIN:VEVENT
DTSTART;TZID=America/New_York:20241129T120000
DTEND;TZID=America/New_York:20241129T180000
DTSTAMP:20260420T090444
CREATED:20240928T200056Z
LAST-MODIFIED:20250115T233158Z
UID:10000084-1732881600-1732903200@blkassfleamkt.com
SUMMARY:BLK ASS FRIDAY
DESCRIPTION:BLK ASS FRIDAY\nFriday [11/29]\n[NOON – 6PM]\nCoppin State University\nJ. Millard Tawes Center \n2500 West North Ave.\nBaltimore\, MD 21216
URL:https://blkassfleamkt.com/event/blk-ass-friday/
LOCATION:Coppin State University – J. Millard Tawes Center\, 2500 West North Ave.\, Baltimore\, MD\, 21216\, United States
CATEGORIES:Festival,Meetup,Networking
ATTACH;FMTTYPE=image/jpeg:https://blkassfleamkt.com/wp-content/uploads/BLK-ASS-FRIDAY_NEW-LOCATION-2.jpeg
END:VEVENT
END:VCALENDAR