BEGIN:VCALENDAR
VERSION:2.0
PRODID:-//BLK ASS FLEA MKT - ECPv6.15.20//NONSGML v1.0//EN
CALSCALE:GREGORIAN
METHOD:PUBLISH
X-ORIGINAL-URL:https://blkassfleamkt.com
X-WR-CALDESC:Events for BLK ASS FLEA MKT
REFRESH-INTERVAL;VALUE=DURATION:PT1H
X-Robots-Tag:noindex
X-PUBLISHED-TTL:PT1H
BEGIN:VTIMEZONE
TZID:America/New_York
BEGIN:DAYLIGHT
TZOFFSETFROM:-0500
TZOFFSETTO:-0400
TZNAME:EDT
DTSTART:20240310T070000
END:DAYLIGHT
BEGIN:STANDARD
TZOFFSETFROM:-0400
TZOFFSETTO:-0500
TZNAME:EST
DTSTART:20241103T060000
END:STANDARD
BEGIN:DAYLIGHT
TZOFFSETFROM:-0500
TZOFFSETTO:-0400
TZNAME:EDT
DTSTART:20250309T070000
END:DAYLIGHT
BEGIN:STANDARD
TZOFFSETFROM:-0400
TZOFFSETTO:-0500
TZNAME:EST
DTSTART:20251102T060000
END:STANDARD
BEGIN:DAYLIGHT
TZOFFSETFROM:-0500
TZOFFSETTO:-0400
TZNAME:EDT
DTSTART:20260308T070000
END:DAYLIGHT
BEGIN:STANDARD
TZOFFSETFROM:-0400
TZOFFSETTO:-0500
TZNAME:EST
DTSTART:20261101T060000
END:STANDARD
END:VTIMEZONE
BEGIN:VEVENT
DTSTART;TZID=America/New_York:20250216T160000
DTEND;TZID=America/New_York:20250216T200000
DTSTAMP:20260420T050115
CREATED:20250115T234244Z
LAST-MODIFIED:20250212T182938Z
UID:10000087-1739721600-1739736000@blkassfleamkt.com
SUMMARY:DA JUKE : LOVE JONES [2] - R&B DAY PARTY
DESCRIPTION:DA JUKE | LOVE JONES [2] – R&B DAY PARTY\nYOU’RE FAVORITE DAY PARTY IS BACK  \nDATE: Sunday [2/16] \nTIME: [4PM–8PM] \nADDRESS: [THE GARAGE @ R. HOUSE] 301 W. 29TH STREET BALTIMORE\, MD 21211
URL:https://blkassfleamkt.com/event/da-juke-love-jones-2-rb-day-party/
LOCATION:The Garage at R. House\, 301 W 29th St.\, Baltimore\, MD\, 21211\, United States
CATEGORIES:Day Party
ATTACH;FMTTYPE=image/jpeg:https://blkassfleamkt.com/wp-content/uploads/Main-Flyer.png.jpg
END:VEVENT
END:VCALENDAR