BEGIN:VCALENDAR
VERSION:2.0
PRODID:-//BLK ASS FLEA MKT - ECPv6.15.20//NONSGML v1.0//EN
CALSCALE:GREGORIAN
METHOD:PUBLISH
X-WR-CALNAME:BLK ASS FLEA MKT
X-ORIGINAL-URL:https://blkassfleamkt.com
X-WR-CALDESC:Events for BLK ASS FLEA MKT
REFRESH-INTERVAL;VALUE=DURATION:PT1H
X-Robots-Tag:noindex
X-PUBLISHED-TTL:PT1H
BEGIN:VTIMEZONE
TZID:America/New_York
BEGIN:DAYLIGHT
TZOFFSETFROM:-0500
TZOFFSETTO:-0400
TZNAME:EDT
DTSTART:20240310T070000
END:DAYLIGHT
BEGIN:STANDARD
TZOFFSETFROM:-0400
TZOFFSETTO:-0500
TZNAME:EST
DTSTART:20241103T060000
END:STANDARD
BEGIN:DAYLIGHT
TZOFFSETFROM:-0500
TZOFFSETTO:-0400
TZNAME:EDT
DTSTART:20250309T070000
END:DAYLIGHT
BEGIN:STANDARD
TZOFFSETFROM:-0400
TZOFFSETTO:-0500
TZNAME:EST
DTSTART:20251102T060000
END:STANDARD
BEGIN:DAYLIGHT
TZOFFSETFROM:-0500
TZOFFSETTO:-0400
TZNAME:EDT
DTSTART:20260308T070000
END:DAYLIGHT
BEGIN:STANDARD
TZOFFSETFROM:-0400
TZOFFSETTO:-0500
TZNAME:EST
DTSTART:20261101T060000
END:STANDARD
END:VTIMEZONE
BEGIN:VEVENT
DTSTART;TZID=America/New_York:20250316T160000
DTEND;TZID=America/New_York:20250316T200000
DTSTAMP:20260420T031523
CREATED:20250218T142621Z
LAST-MODIFIED:20250218T142621Z
UID:10000089-1742140800-1742155200@blkassfleamkt.com
SUMMARY:DA JUKE : LADIES LOUNGE - A BLK ASS DAY PARTY
DESCRIPTION:DA JUKE | LADIES LOUNGE – A BLK ASS DAY PARTY\nYOU’RE FAVORITE DAY PARTY IS BACK! ALL COUSINS ARE WELCOME! \nDATE: Sunday [3/16] \nTIME: [4PM–8PM] \nADDRESS: [THE GARAGE @ R. HOUSE] 301 W. 29TH STREET BALTIMORE\, MD 21211
URL:https://blkassfleamkt.com/event/da-juke-march/
LOCATION:The Garage at R. House\, 301 W 29th St.\, Baltimore\, MD\, 21211\, United States
CATEGORIES:Day Party
ATTACH;FMTTYPE=image/jpeg:https://blkassfleamkt.com/wp-content/uploads/7C8BFEA1-3883-4792-8AD9-C0297D4CCC38.jpg
END:VEVENT
BEGIN:VEVENT
DTSTART;TZID=America/New_York:20250329T120000
DTEND;TZID=America/New_York:20250329T170000
DTSTAMP:20260420T031523
CREATED:20250218T143543Z
LAST-MODIFIED:20250218T143543Z
UID:10000090-1743249600-1743267600@blkassfleamkt.com
SUMMARY:FOR DA GWORLS: A BLK ASS FEMME MKT
DESCRIPTION:FOR DA GWORLS: A BLK ASS FEMME MKT\nWe’re kicking off our MKT series this year celebrating Women’s History Month! Meet us at The Garage @ R. House on Saturday\, 3/29 to shop over 30 BLK Femme + Women-Owned Brands! It’s never just a MKT; Catch a vibe with Queen HD the DJ and capture the moment with the BLK ASS PHOTO EXPERIENCE by @niy.vmi \nDATE: Saturday [3/29] \nTIME: [NOON–5PM] \nADDRESS: [THE GARAGE @ R. HOUSE] 301 W. 29TH STREET BALTIMORE\, MD 21211
URL:https://blkassfleamkt.com/event/fdg/
LOCATION:The Garage at R. House\, 301 W 29th St.\, Baltimore\, MD\, 21211\, United States
CATEGORIES:Market,Meetup,Popup
ATTACH;FMTTYPE=image/jpeg:https://blkassfleamkt.com/wp-content/uploads/FOR-DA-GWORLS_3.29.jpg
END:VEVENT
END:VCALENDAR