BEGIN:VCALENDAR
VERSION:2.0
PRODID:-//BLK ASS FLEA MKT - ECPv6.15.20//NONSGML v1.0//EN
CALSCALE:GREGORIAN
METHOD:PUBLISH
X-WR-CALNAME:BLK ASS FLEA MKT
X-ORIGINAL-URL:https://blkassfleamkt.com
X-WR-CALDESC:Events for BLK ASS FLEA MKT
REFRESH-INTERVAL;VALUE=DURATION:PT1H
X-Robots-Tag:noindex
X-PUBLISHED-TTL:PT1H
BEGIN:VTIMEZONE
TZID:UTC
BEGIN:STANDARD
TZOFFSETFROM:+0000
TZOFFSETTO:+0000
TZNAME:UTC
DTSTART:20230101T000000
END:STANDARD
END:VTIMEZONE
BEGIN:VEVENT
DTSTART;TZID=UTC:20240815T193000
DTEND;TZID=UTC:20240815T193000
DTSTAMP:20260420T002500
CREATED:20240805T011922Z
LAST-MODIFIED:20240819T014001Z
UID:10000071-1723750200-1723750200@blkassfleamkt.com
SUMMARY:BLK ASS MOVIE NIGHT
DESCRIPTION:[08/15] BLK ASS MOVIE NIGHT @ourtimekitchen [we watching B.A.P.S!]\nFOOD + COCKTAILS + COMMUNITY\n7:30PM | MOVIE @ 8:00PM \nBring ya blankets and lounge chairs! \nCocktails by @thestylishbarter \nTIX ONLY $5 \n  \n\n[envira-gallery id=”1378234″]
URL:https://blkassfleamkt.com/event/blk-ass-movie-night/
LOCATION:Our Time Kitchen\, 117 W. 24th St.\, Baltimore\, MD\, 21218\, United States
CATEGORIES:Movie Night
ATTACH;FMTTYPE=image/jpeg:https://blkassfleamkt.com/wp-content/uploads/Movie-Night.jpg
END:VEVENT
BEGIN:VEVENT
DTSTART;VALUE=DATE:20240809
DTEND;VALUE=DATE:20240811
DTSTAMP:20260420T002500
CREATED:20240809T004757Z
LAST-MODIFIED:20240809T012613Z
UID:10000074-1723172400-1723258799@blkassfleamkt.com
SUMMARY:JOIN US TO MAKE HISTORY
DESCRIPTION:As part of the @cllctivly CLLCTIVGIVE campaign we are excited to fundraise alongside incredible Black Orgs and Businesses working for social change and BLK ASS JOY! \nBy giving Black on Friday\, August 9 [8/9] you could help us expand operations\, offers\, and programs as part of our 2025 plans and beyond. You know how we move for our community; help us make sure we can keep doing it big! \nYOU CAN DONATE NOW\, BUT THE MAGIC STARTS TOMORROW! \nLet’s #giveblack \nDONATE HERE
URL:https://blkassfleamkt.com/event/join-us-to-make-history/
LOCATION:CLLCTIVGIVE\, Baltimore\, MD\, 21217\, United States
CATEGORIES:Fundraiser
ATTACH;FMTTYPE=image/jpeg:https://blkassfleamkt.com/wp-content/uploads/CLLCTIVGIVE-Give-Black.jpg
END:VEVENT
BEGIN:VEVENT
DTSTART;TZID=UTC:20240803T170000
DTEND;TZID=UTC:20240803T230000
DTSTAMP:20260420T002500
CREATED:20240801T083909Z
LAST-MODIFIED:20240801T091202Z
UID:10000070-1722704400-1722726000@blkassfleamkt.com
SUMMARY:BLK @ NITE: ARTSCAPE 40
DESCRIPTION:COUSINS! This Saturday BLK ASS FLEA MKT has a special vibe in collaboration with @artscapebmore \nJoin us for BLK @ NITE: ARTSCAPE 40\, a BLK ASS NITE MKT + party celebrating House/Club Music!\nLocation: @eubieblakecenterTime: 5PM-11PMBLK ASS VENDORSHOUSE MUSICVibes by @jayswann_Cocktails by @thestylishbartenderThis event is made possible by: Fulton Bank\, @artscapebmore + @promoandartsRSVP [FREE]
URL:https://blkassfleamkt.com/event/blk-nite-artscape-40/
LOCATION:Eubie Blake National Jazz Institute and Cultural Center\, 847 N Howard St\, Baltimore\, MD\, 21201\, United States
CATEGORIES:Festival
ATTACH;FMTTYPE=image/jpeg:https://blkassfleamkt.com/wp-content/uploads/BLK-at-NITE-ARTSCAPE-40.jpg
END:VEVENT
BEGIN:VEVENT
DTSTART;TZID=UTC:20240619T150000
DTEND;TZID=UTC:20240619T200000
DTSTAMP:20260420T002500
CREATED:20240618T193318Z
LAST-MODIFIED:20240801T071514Z
UID:10000005-1718809200-1718827200@blkassfleamkt.com
SUMMARY:Rhythm Liberation Fest: Juneteenth Celebration
DESCRIPTION:[06/19] WEDNESDAY is our inaugural Juneteenth celebrations- RHYTHM LIBERATION FEST \nBring ya blankets and lounge chairs! \nWe’ve got a Kids Corner + art installations by @jubileearts1\, Jam sessions\, DJ sets\, drumming circles\, live performances [@akilahdivine @lovegroovefest @blackassets] + of course a BLK ASS FLEA MKT ft. 30+ BLK ASS BUSINESSES 🛍️! \nCocktails by Stem and Vine \nVibes by DJ Huxtable \nMade possible by BCAN and Hebron + Co.
URL:https://blkassfleamkt.com/event/rhythm-liberation-fest-juneteenth-celebration/
LOCATION:Baltimore Museum of Industry\, 1415 Key Highway\, Baltimore\, 21230
CATEGORIES:Festival
ATTACH;FMTTYPE=image/png:https://blkassfleamkt.com/wp-content/uploads/JuneTeenth-2024.png
END:VEVENT
END:VCALENDAR